BEGIN:VCALENDAR
VERSION:2.0
PRODID:-//wp-events-plugin.com//7.2.3.1//EN
TZID:Europe/Berlin
X-WR-TIMEZONE:Europe/Berlin
BEGIN:VEVENT
UID:0-152@spd-suedwest.de
DTSTART;TZID=Europe/Berlin:20220125T193000
DTEND;TZID=Europe/Berlin:20220125T193000
DTSTAMP:20211122T143355Z
URL:https://spd-suedwest.de/termin/mitgliederversammlung-der-abteilung-lic
 hterfelde-ost-sued/
SUMMARY:Mitgliederversammlung der Abteilung Lichterfelde Ost & Süd
DESCRIPTION:\nThema: Social Media\n
CATEGORIES:Abteilung Lichterfelde Ost + Süd
LOCATION:„Reinhold-Voht-Haus - Soziale Dienste“ der AWO\, Osdorfer Stra
 ße 121\, Berlin-Lichterfelde\, 12207\, Berlin\, Deutschland
X-APPLE-STRUCTURED-LOCATION;VALUE=URI;X-ADDRESS=Osdorfer Straße 121\, Berl
 in-Lichterfelde\, 12207\, Berlin\, Deutschland;X-APPLE-RADIUS=100;X-TITLE=
 „Reinhold-Voht-Haus - Soziale Dienste“ der AWO:geo:0,0
END:VEVENT
BEGIN:VTIMEZONE
TZID:Europe/Berlin
X-LIC-LOCATION:Europe/Berlin
BEGIN:STANDARD
DTSTART:20211031T020000
TZOFFSETFROM:+0200
TZOFFSETTO:+0100
TZNAME:CET
END:STANDARD
END:VTIMEZONE
END:VCALENDAR